Package: MSstatsBioNet Version: 1.1.7 Command: /home/biocbuild/R/R/bin/R CMD build --keep-empty-dirs --no-resave-data MSstatsBioNet StartedAt: 2025-10-17 03:01:56 -0000 (Fri, 17 Oct 2025) EndedAt: 2025-10-17 03:02:32 -0000 (Fri, 17 Oct 2025) EllapsedTime: 36.0 seconds RetCode: 0 Status: OK PackageFile: MSstatsBioNet_1.1.7.tar.gz PackageFileSize: 557.9 KiB