Package: MSstatsBioNet Version: 1.3.1 Command: /home/biocbuild/bbs-3.23-bioc/R/bin/R CMD INSTALL MSstatsBioNet StartedAt: 2025-11-23 15:59:19 -0500 (Sun, 23 Nov 2025) EndedAt: 2025-11-23 15:59:33 -0500 (Sun, 23 Nov 2025) EllapsedTime: 14.5 seconds RetCode: 0 Status: OK