Package: MSstatsBioNet Version: 1.1.7 Maintainer: Anthony Wu MaintainerEmail: wu.anthon at northeastern.edu git_url: https://git.bioconductor.org/packages/MSstatsBioNet git_branch: devel git_last_commit: 0fa8338 git_last_commit_date: 2025-10-03 10:42:06 -0400 (Fri, 03 Oct 2025)