Package: MSstatsBig Version: 1.7.0 Command: /Library/Frameworks/R.framework/Resources/bin/R CMD build --keep-empty-dirs --no-resave-data MSstatsBig StartedAt: 2025-05-09 17:44:33 -0400 (Fri, 09 May 2025) EndedAt: 2025-05-09 17:44:58 -0400 (Fri, 09 May 2025) EllapsedTime: 25.2 seconds RetCode: 0 Status: OK PackageFile: MSstatsBig_1.7.0.tar.gz PackageFileSize: 70.23 KiB