Package: MSstatsBig Version: 1.7.0 Command: /Library/Frameworks/R.framework/Resources/bin/R CMD check --install=check:MSstatsBig.install-out.txt --library=/Library/Frameworks/R.framework/Resources/library --no-vignettes --timings MSstatsBig_1.7.0.tar.gz StartedAt: 2025-05-09 20:40:54 -0400 (Fri, 09 May 2025) EndedAt: 2025-05-09 20:41:28 -0400 (Fri, 09 May 2025) EllapsedTime: 33.4 seconds RetCode: 0 Status: OK CheckDir: MSstatsBig.Rcheck Warnings: 0