Package: MSstats Version: 4.17.1 Command: chmod a+r MSstats -R && F:\biocbuild\bbs-3.22-bioc\R\bin\R.exe CMD build --keep-empty-dirs --no-resave-data MSstats StartedAt: 2025-08-14 21:44:42 -0400 (Thu, 14 Aug 2025) EndedAt: 2025-08-14 21:47:30 -0400 (Thu, 14 Aug 2025) EllapsedTime: 168.2 seconds RetCode: 0 Status: OK PackageFile: MSstats_4.17.1.tar.gz PackageFileSize: 275.9 KiB