Package: MSstats Version: 4.17.1 Command: rm -rf MSstats.buildbin-libdir && mkdir MSstats.buildbin-libdir && F:\biocbuild\bbs-3.22-bioc\R\bin\R.exe CMD INSTALL --build --library=MSstats.buildbin-libdir MSstats_4.17.1.tar.gz StartedAt: 2025-08-15 10:46:53 -0400 (Fri, 15 Aug 2025) EndedAt: 2025-08-15 10:49:03 -0400 (Fri, 15 Aug 2025) EllapsedTime: 130.0 seconds RetCode: 0 Status: OK PackageFile: MSstats_4.17.1.zip PackageFileSize: 1.064 MiB