Package: MSstats Version: 4.17.0 Maintainer: Meena Choi MaintainerEmail: mnchoi67 at gmail.com git_url: https://git.bioconductor.org/packages/MSstats git_branch: devel git_last_commit: 907f742 git_last_commit_date: 2025-04-15 10:27:04 -0400 (Tue, 15 Apr 2025)