Package: MSnbase Version: 2.35.1 Command: rm -rf MSnbase.buildbin-libdir && mkdir MSnbase.buildbin-libdir && F:\biocbuild\bbs-3.22-bioc\R\bin\R.exe CMD INSTALL --build --library=MSnbase.buildbin-libdir MSnbase_2.35.1.tar.gz StartedAt: 2025-08-15 10:46:32 -0400 (Fri, 15 Aug 2025) EndedAt: 2025-08-15 10:51:14 -0400 (Fri, 15 Aug 2025) EllapsedTime: 282.0 seconds RetCode: 0 Status: OK PackageFile: MSnbase_2.35.1.zip PackageFileSize: 7.185 MiB