Package: MSnbase Version: 2.33.2 Command: /home/biocbuild/bbs-3.21-bioc/R/bin/R CMD INSTALL MSnbase StartedAt: 2025-02-02 15:33:33 -0500 (Sun, 02 Feb 2025) EndedAt: 2025-02-02 15:34:46 -0500 (Sun, 02 Feb 2025) EllapsedTime: 72.7 seconds RetCode: 0 Status: OK