Package: MSnbase Version: 2.33.2 Command: /home/biocbuild/bbs-3.21-bioc/R/bin/R CMD check --install=check:MSnbase.install-out.txt --library=/home/biocbuild/bbs-3.21-bioc/R/site-library --timings MSnbase_2.33.2.tar.gz StartedAt: 2025-02-06 00:34:13 -0500 (Thu, 06 Feb 2025) EndedAt: 2025-02-06 00:52:04 -0500 (Thu, 06 Feb 2025) EllapsedTime: 1070.6 seconds RetCode: 1 Status: ERROR CheckDir: MSnbase.Rcheck Warnings: NA