Package: MSnbase Version: 2.33.2 Command: /Library/Frameworks/R.framework/Resources/bin/R CMD check --install=check:MSnbase.install-out.txt --library=/Library/Frameworks/R.framework/Resources/library --no-vignettes --timings MSnbase_2.33.2.tar.gz StartedAt: 2025-02-05 21:52:33 -0500 (Wed, 05 Feb 2025) EndedAt: 2025-02-05 22:09:07 -0500 (Wed, 05 Feb 2025) EllapsedTime: 993.9 seconds RetCode: 1 Status: ERROR CheckDir: MSnbase.Rcheck Warnings: NA