Package: MSnbase Version: 2.33.2 Command: /home/biocbuild/R/R/bin/R CMD INSTALL MSnbase StartedAt: 2025-01-29 20:10:28 -0000 (Wed, 29 Jan 2025) EndedAt: 2025-01-29 20:12:13 -0000 (Wed, 29 Jan 2025) EllapsedTime: 104.9 seconds RetCode: 0 Status: OK