Package: MSnbase Version: 2.33.2 Command: /home/biocbuild/R/R/bin/R CMD check --install=check:MSnbase.install-out.txt --library=/home/biocbuild/R/R/site-library --no-vignettes --timings MSnbase_2.33.2.tar.gz StartedAt: 2025-01-28 12:55:19 -0000 (Tue, 28 Jan 2025) EndedAt: 2025-01-28 13:19:29 -0000 (Tue, 28 Jan 2025) EllapsedTime: 1449.9 seconds RetCode: 1 Status: ERROR CheckDir: MSnbase.Rcheck Warnings: NA