Package: MSnbase Version: 2.33.2 Command: /home/biocbuild/R/R/bin/R CMD build --keep-empty-dirs --no-resave-data MSnbase StartedAt: 2025-01-29 00:39:59 -0000 (Wed, 29 Jan 2025) EndedAt: 2025-01-29 00:44:27 -0000 (Wed, 29 Jan 2025) EllapsedTime: 268.2 seconds RetCode: 0 Status: OK PackageFile: MSnbase_2.33.2.tar.gz PackageFileSize: 4.792 MiB