Package: MSnbase Version: 2.33.2 Command: /Library/Frameworks/R.framework/Resources/bin/R CMD check --install=check:MSnbase.install-out.txt --library=/Library/Frameworks/R.framework/Resources/library --no-vignettes --timings MSnbase_2.33.2.tar.gz StartedAt: 2025-01-31 20:21:10 -0500 (Fri, 31 Jan 2025) EndedAt: 2025-01-31 20:27:25 -0500 (Fri, 31 Jan 2025) EllapsedTime: 374.7 seconds RetCode: 0 Status: OK CheckDir: MSnbase.Rcheck Warnings: 0