Package: MSnbase Version: 2.33.2 Command: rm -rf MSnbase.buildbin-libdir && mkdir MSnbase.buildbin-libdir && /Users/biocbuild/BBS/utils/build-universal.sh MSnbase_2.33.2.tar.gz /Library/Frameworks/R.framework/Resources/bin/R MSnbase.buildbin-libdir StartedAt: 2025-02-05 22:27:26 -0500 (Wed, 05 Feb 2025) EndedAt: 2025-02-05 22:27:55 -0500 (Wed, 05 Feb 2025) EllapsedTime: 28.5 seconds RetCode: 0 Status: OK PackageFile: MSnbase_2.33.2.tgz PackageFileSize: 8.921 MiB