Package: MSnID Version: 1.43.0 Command: /home/biocbuild/R/R/bin/R CMD build --keep-empty-dirs --no-resave-data MSnID StartedAt: 2025-10-03 01:40:22 -0000 (Fri, 03 Oct 2025) EndedAt: 2025-10-03 01:43:01 -0000 (Fri, 03 Oct 2025) EllapsedTime: 159.0 seconds RetCode: 0 Status: OK PackageFile: MSnID_1.43.0.tar.gz PackageFileSize: 2.983 MiB