Package: MSnID Version: 1.43.0 Command: chmod a+r MSnID -R && F:\biocbuild\bbs-3.22-bioc\R\bin\R.exe CMD build --keep-empty-dirs --no-resave-data MSnID StartedAt: 2025-08-14 21:43:42 -0400 (Thu, 14 Aug 2025) EndedAt: 2025-08-14 21:46:43 -0400 (Thu, 14 Aug 2025) EllapsedTime: 180.7 seconds RetCode: 0 Status: OK PackageFile: MSnID_1.43.0.tar.gz PackageFileSize: 2.98 MiB