Package: MSnID Version: 1.43.0 Command: /Library/Frameworks/R.framework/Resources/bin/R CMD build --keep-empty-dirs --no-resave-data MSnID StartedAt: 2025-10-02 18:01:18 -0400 (Thu, 02 Oct 2025) EndedAt: 2025-10-02 18:04:38 -0400 (Thu, 02 Oct 2025) EllapsedTime: 199.7 seconds RetCode: 0 Status: OK PackageFile: MSnID_1.43.0.tar.gz PackageFileSize: 3.002 MiB