Package: MSPrep Version: 1.17.0 Command: /Library/Frameworks/R.framework/Resources/bin/R CMD check --install=check:MSPrep.install-out.txt --library=/Library/Frameworks/R.framework/Resources/library --no-vignettes --timings MSPrep_1.17.0.tar.gz StartedAt: 2025-01-31 20:21:46 -0500 (Fri, 31 Jan 2025) EndedAt: 2025-01-31 20:24:42 -0500 (Fri, 31 Jan 2025) EllapsedTime: 176.1 seconds RetCode: 1 Status: ERROR CheckDir: MSPrep.Rcheck Warnings: NA