Package: MSA2dist Version: 1.11.1 Command: E:\biocbuild\bbs-3.21-bioc\R\bin\R.exe CMD check --no-multiarch --install=check:MSA2dist.install-out.txt --library=E:\biocbuild\bbs-3.21-bioc\R\library --no-vignettes --timings MSA2dist_1.11.1.tar.gz StartedAt: 2025-02-04 03:42:37 -0500 (Tue, 04 Feb 2025) EndedAt: 2025-02-04 03:52:21 -0500 (Tue, 04 Feb 2025) EllapsedTime: 583.8 seconds RetCode: 0 Status: OK CheckDir: MSA2dist.Rcheck Warnings: 0