Package: MSA2dist Version: 1.11.1 Command: /home/biocbuild/bbs-3.21-bioc/R/bin/R CMD check --install=check:MSA2dist.install-out.txt --library=/home/biocbuild/bbs-3.21-bioc/R/site-library --timings MSA2dist_1.11.1.tar.gz StartedAt: 2025-02-04 00:35:47 -0500 (Tue, 04 Feb 2025) EndedAt: 2025-02-04 00:39:55 -0500 (Tue, 04 Feb 2025) EllapsedTime: 248.4 seconds RetCode: 0 Status: OK CheckDir: MSA2dist.Rcheck Warnings: 0