Package: MSA2dist Version: 1.11.1 Command: /Library/Frameworks/R.framework/Resources/bin/R CMD INSTALL MSA2dist StartedAt: 2025-02-03 15:23:07 -0500 (Mon, 03 Feb 2025) EndedAt: 2025-02-03 15:24:26 -0500 (Mon, 03 Feb 2025) EllapsedTime: 78.5 seconds RetCode: 0 Status: OK