Package: MSA2dist Version: 1.11.1 Command: /Library/Frameworks/R.framework/Resources/bin/R CMD build --keep-empty-dirs --no-resave-data MSA2dist StartedAt: 2025-02-03 17:34:37 -0500 (Mon, 03 Feb 2025) EndedAt: 2025-02-03 17:36:21 -0500 (Mon, 03 Feb 2025) EllapsedTime: 103.9 seconds RetCode: 0 Status: OK PackageFile: MSA2dist_1.11.1.tar.gz PackageFileSize: 878.3 KiB