Package: MSA2dist Version: 1.11.1 Command: rm -rf MSA2dist.buildbin-libdir && mkdir MSA2dist.buildbin-libdir && /Users/biocbuild/BBS/utils/build-universal.sh MSA2dist_1.11.1.tar.gz /Library/Frameworks/R.framework/Resources/bin/R MSA2dist.buildbin-libdir StartedAt: 2025-02-04 00:44:39 -0500 (Tue, 04 Feb 2025) EndedAt: 2025-02-04 00:46:02 -0500 (Tue, 04 Feb 2025) EllapsedTime: 83.1 seconds RetCode: 0 Status: OK PackageFile: MSA2dist_1.11.1.tgz PackageFileSize: 1.159 MiB