Package: MSA2dist Version: 1.11.1 Command: /Library/Frameworks/R.framework/Resources/bin/R CMD check --install=check:MSA2dist.install-out.txt --library=/Library/Frameworks/R.framework/Resources/library --no-vignettes --timings MSA2dist_1.11.1.tar.gz StartedAt: 2025-02-03 20:53:27 -0500 (Mon, 03 Feb 2025) EndedAt: 2025-02-03 20:54:52 -0500 (Mon, 03 Feb 2025) EllapsedTime: 85.1 seconds RetCode: 0 Status: OK CheckDir: MSA2dist.Rcheck Warnings: 0