Package: MQmetrics Version: 1.13.1 Command: /home/biocbuild/bbs-3.21-bioc/R/bin/R CMD INSTALL MQmetrics StartedAt: 2024-10-24 03:20:33 -0400 (Thu, 24 Oct 2024) EndedAt: 2024-10-24 03:20:40 -0400 (Thu, 24 Oct 2024) EllapsedTime: 6.3 seconds RetCode: 0 Status: OK