Package: MQmetrics Version: 1.13.1 Command: /home/biocbuild/bbs-3.21-bioc/R/bin/R CMD build --keep-empty-dirs --no-resave-data MQmetrics StartedAt: 2024-10-24 05:00:07 -0400 (Thu, 24 Oct 2024) EndedAt: 2024-10-24 05:00:20 -0400 (Thu, 24 Oct 2024) EllapsedTime: 13.0 seconds RetCode: 1 Status: ERROR PackageFile: None PackageFileSize: NA