Package: MPRAnalyze Version: 1.27.0 Command: rm -rf MPRAnalyze.buildbin-libdir && mkdir MPRAnalyze.buildbin-libdir && F:\biocbuild\bbs-3.22-bioc\R\bin\R.exe CMD INSTALL --build --library=MPRAnalyze.buildbin-libdir MPRAnalyze_1.27.0.tar.gz StartedAt: 2025-08-15 10:45:46 -0400 (Fri, 15 Aug 2025) EndedAt: 2025-08-15 10:46:32 -0400 (Fri, 15 Aug 2025) EllapsedTime: 46.6 seconds RetCode: 0 Status: OK PackageFile: MPRAnalyze_1.27.0.zip PackageFileSize: 568.1 KiB