Package: MPRAnalyze Version: 1.25.0 Command: rm -rf MPRAnalyze.buildbin-libdir && mkdir MPRAnalyze.buildbin-libdir && E:\biocbuild\bbs-3.21-bioc\R\bin\R.exe CMD INSTALL --build --library=MPRAnalyze.buildbin-libdir MPRAnalyze_1.25.0.tar.gz StartedAt: 2025-02-17 07:58:37 -0500 (Mon, 17 Feb 2025) EndedAt: 2025-02-17 07:59:23 -0500 (Mon, 17 Feb 2025) EllapsedTime: 45.7 seconds RetCode: 0 Status: OK PackageFile: MPRAnalyze_1.25.0.zip PackageFileSize: 567.9 KiB