Package: MPRAnalyze Version: 1.27.0 Maintainer: Tal Ashuach MaintainerEmail: tal_ashuach at berkeley.edu git_url: https://git.bioconductor.org/packages/MPRAnalyze git_branch: devel git_last_commit: cd18a98 git_last_commit_date: 2025-04-15 11:37:49 -0400 (Tue, 15 Apr 2025)