Package: MPFE Version: 1.45.0 Command: chmod a+r MPFE -R && F:\biocbuild\bbs-3.22-bioc\R\bin\R.exe CMD build --keep-empty-dirs --no-resave-data MPFE StartedAt: 2025-08-14 21:40:48 -0400 (Thu, 14 Aug 2025) EndedAt: 2025-08-14 21:40:57 -0400 (Thu, 14 Aug 2025) EllapsedTime: 9.0 seconds RetCode: 0 Status: OK PackageFile: MPFE_1.45.0.tar.gz PackageFileSize: 103.2 KiB