Package: MPFE Version: 1.45.0 Command: rm -rf MPFE.buildbin-libdir && mkdir MPFE.buildbin-libdir && F:\biocbuild\bbs-3.22-bioc\R\bin\R.exe CMD INSTALL --build --library=MPFE.buildbin-libdir MPFE_1.45.0.tar.gz StartedAt: 2025-08-15 10:45:40 -0400 (Fri, 15 Aug 2025) EndedAt: 2025-08-15 10:45:48 -0400 (Fri, 15 Aug 2025) EllapsedTime: 7.2 seconds RetCode: 0 Status: OK PackageFile: MPFE_1.45.0.zip PackageFileSize: 132 KiB