Package: MPAC Version: 1.3.0 Command: chmod a+r MPAC -R && F:\biocbuild\bbs-3.22-bioc\R\bin\R.exe CMD build --keep-empty-dirs --no-resave-data MPAC StartedAt: 2025-08-14 21:40:45 -0400 (Thu, 14 Aug 2025) EndedAt: 2025-08-14 21:42:11 -0400 (Thu, 14 Aug 2025) EllapsedTime: 86.3 seconds RetCode: 0 Status: OK PackageFile: MPAC_1.3.0.tar.gz PackageFileSize: 846.5 KiB