Package: MPAC Version: 1.3.0 Command: rm -rf MPAC.buildbin-libdir && mkdir MPAC.buildbin-libdir && /Users/biocbuild/BBS/utils/build-universal.sh MPAC_1.3.0.tar.gz /Library/Frameworks/R.framework/Resources/bin/R MPAC.buildbin-libdir StartedAt: 2025-10-04 02:16:47 -0400 (Sat, 04 Oct 2025) EndedAt: 2025-10-04 02:17:37 -0400 (Sat, 04 Oct 2025) EllapsedTime: 50.6 seconds RetCode: 0 Status: OK PackageFile: MPAC_1.3.0.tgz PackageFileSize: 859.7 KiB