Package: MOSim Version: 2.5.0 Command: rm -rf MOSim.buildbin-libdir && mkdir MOSim.buildbin-libdir && F:\biocbuild\bbs-3.22-bioc\R\bin\R.exe CMD INSTALL --build --library=MOSim.buildbin-libdir MOSim_2.5.0.tar.gz StartedAt: 2025-08-15 10:44:56 -0400 (Fri, 15 Aug 2025) EndedAt: 2025-08-15 10:46:04 -0400 (Fri, 15 Aug 2025) EllapsedTime: 68.4 seconds RetCode: 0 Status: OK PackageFile: MOSim_2.5.0.zip PackageFileSize: 7.186 MiB