Package: MOSim Version: 2.7.0 Command: /home/biocbuild/bbs-3.23-bioc/R/bin/R CMD INSTALL MOSim StartedAt: 2025-11-05 16:00:39 -0500 (Wed, 05 Nov 2025) EndedAt: 2025-11-05 16:01:22 -0500 (Wed, 05 Nov 2025) EllapsedTime: 42.8 seconds RetCode: 0 Status: OK