Package: MOSim Version: 2.7.0 Command: /home/biocbuild/bbs-3.23-bioc/R/bin/R CMD build --keep-empty-dirs --no-resave-data MOSim StartedAt: 2025-11-05 18:49:54 -0500 (Wed, 05 Nov 2025) EndedAt: 2025-11-05 18:56:12 -0500 (Wed, 05 Nov 2025) EllapsedTime: 378.3 seconds RetCode: 0 Status: OK PackageFile: MOSim_2.7.0.tar.gz PackageFileSize: 6.384 MiB