Package: MOSim Version: 2.5.0 Command: /Library/Frameworks/R.framework/Resources/bin/R CMD INSTALL MOSim StartedAt: 2025-10-06 15:29:00 -0400 (Mon, 06 Oct 2025) EndedAt: 2025-10-06 15:29:18 -0400 (Mon, 06 Oct 2025) EllapsedTime: 17.5 seconds RetCode: 0 Status: OK