Package: MOSClip Version: 1.3.2 Command: /Library/Frameworks/R.framework/Resources/bin/R CMD INSTALL MOSClip StartedAt: 2025-07-24 15:32:15 -0400 (Thu, 24 Jul 2025) EndedAt: 2025-07-24 15:32:34 -0400 (Thu, 24 Jul 2025) EllapsedTime: 19.6 seconds RetCode: 0 Status: OK