Package: MOSClip Version: 1.3.0 Maintainer: Paolo Martini MaintainerEmail: paolo.martini at unibs.it git_url: https://git.bioconductor.org/packages/MOSClip git_branch: devel git_last_commit: e5adc80 git_last_commit_date: 2025-04-15 13:43:19 -0400 (Tue, 15 Apr 2025)