Package: MOMA Version: 1.21.0 Command: /home/biocbuild/bbs-3.22-bioc/R/bin/R CMD INSTALL MOMA StartedAt: 2025-10-01 15:24:34 -0400 (Wed, 01 Oct 2025) EndedAt: 2025-10-01 15:25:16 -0400 (Wed, 01 Oct 2025) EllapsedTime: 42.2 seconds RetCode: 0 Status: OK