Package: MOMA Version: 1.21.0 Command: /home/biocbuild/bbs-3.22-bioc/R/bin/R CMD build --keep-empty-dirs --no-resave-data --md5 MOMA StartedAt: 2025-10-01 19:07:32 -0400 (Wed, 01 Oct 2025) EndedAt: 2025-10-01 19:09:33 -0400 (Wed, 01 Oct 2025) EllapsedTime: 121.1 seconds RetCode: 0 Status: OK PackageFile: MOMA_1.21.0.tar.gz PackageFileSize: 4.293 MiB