Package: MOMA Version: 1.21.0 Command: /Library/Frameworks/R.framework/Resources/bin/R CMD INSTALL MOMA StartedAt: 2025-05-01 15:18:23 -0400 (Thu, 01 May 2025) EndedAt: 2025-05-01 15:19:08 -0400 (Thu, 01 May 2025) EllapsedTime: 45.7 seconds RetCode: 0 Status: OK