Package: MOGAMUN Version: 1.19.0 Command: rm -rf MOGAMUN.buildbin-libdir && mkdir MOGAMUN.buildbin-libdir && F:\biocbuild\bbs-3.22-bioc\R\bin\R.exe CMD INSTALL --build --library=MOGAMUN.buildbin-libdir MOGAMUN_1.19.0.tar.gz StartedAt: 2025-08-15 10:44:21 -0400 (Fri, 15 Aug 2025) EndedAt: 2025-08-15 10:44:36 -0400 (Fri, 15 Aug 2025) EllapsedTime: 14.8 seconds RetCode: 0 Status: OK PackageFile: MOGAMUN_1.19.0.zip PackageFileSize: 184.5 KiB