Package: MOFA2 Version: 1.19.0 Command: /home/biocbuild/bbs-3.22-bioc/R/bin/R CMD INSTALL MOFA2 StartedAt: 2025-10-08 15:48:12 -0400 (Wed, 08 Oct 2025) EndedAt: 2025-10-08 15:48:37 -0400 (Wed, 08 Oct 2025) EllapsedTime: 24.5 seconds RetCode: 0 Status: OK