Package: MOFA2 Version: 1.19.0 Command: /home/biocbuild/bbs-3.22-bioc/R/bin/R CMD build --keep-empty-dirs --no-resave-data --md5 MOFA2 StartedAt: 2025-10-08 19:09:49 -0400 (Wed, 08 Oct 2025) EndedAt: 2025-10-08 19:11:28 -0400 (Wed, 08 Oct 2025) EllapsedTime: 98.1 seconds RetCode: 0 Status: OK PackageFile: MOFA2_1.19.0.tar.gz PackageFileSize: 4.468 MiB