Package: MODA Version: 1.35.0 Command: rm -rf MODA.buildbin-libdir && mkdir MODA.buildbin-libdir && F:\biocbuild\bbs-3.22-bioc\R\bin\R.exe CMD INSTALL --build --library=MODA.buildbin-libdir MODA_1.35.0.tar.gz StartedAt: 2025-08-15 10:44:10 -0400 (Fri, 15 Aug 2025) EndedAt: 2025-08-15 10:44:38 -0400 (Fri, 15 Aug 2025) EllapsedTime: 28.5 seconds RetCode: 0 Status: OK PackageFile: MODA_1.35.0.zip PackageFileSize: 360.9 KiB