Package: MMUPHin Version: 1.23.0 Command: /home/biocbuild/bbs-3.22-bioc/R/bin/R CMD INSTALL MMUPHin StartedAt: 2025-10-23 15:14:35 -0400 (Thu, 23 Oct 2025) EndedAt: 2025-10-23 15:14:42 -0400 (Thu, 23 Oct 2025) EllapsedTime: 7.2 seconds RetCode: 0 Status: OK